BEGIN:VCALENDAR
VERSION:2.0
PRODID:-//wp-events-plugin.com//7.2.3.1//EN
TZID:Europe/Brussels
X-WR-TIMEZONE:Europe/Brussels
BEGIN:VEVENT
UID:896@raakhulshout.be
DTSTART;TZID=Europe/Brussels:20221024T193000
DTEND;TZID=Europe/Brussels:20221024T223000
DTSTAMP:20220908T184427Z
URL:https://raakhulshout.be/events/tuinhier-cursus-tuinhier/
SUMMARY:Tuinhier: Cursus tuin(h)ier
DESCRIPTION:\n\n&nbsp\;\n\nCursus “Start to Tuin(h)ier georganiseerd door
  Tuinhier Hulshout\n\nWe beseffen dat er nog vele vragen rijzen\, vooral d
 an bij jonge en/of beginnende amateurtuiniers. Zodanig zelfs dat zij hun p
 roject moeilijk uit de grond krijgen.\nMet een cursus “Start to tuin(H)i
 er” hopen wij elke amateurtuinier te bereiken die op een succesvolle wij
 ze groenten in zijn ecologische moestuin wenst te telen.\nDe lessen worden
  gegeven door Bert Peers en zijn zodanig gepland dat de theorie onmiddelli
 jk en praktisch in je moestuin kan toegepast worden. Op 9 maandagavonden v
 an oktober tot juni\, ontmoeten we jullie graag in het Fanfarelokaal\, Kap
 elaniestraat 13 in Hulshout\, telkens vanaf 19.30 uur. Eerste les op 24 ok
 tober 2022.\n\nDe deelname is gratis. Een cursusboek is optioneel en kost 
 15 euro.\n\nVoor inlichtingen kan je terecht bij jef.pauwels52@telenet.be 
 of telefonisch: 0497 42 39 77
LOCATION:Fanfarelokaal\, Kapelaniestraat 13\, Hulshout\, Antwerpen\, 2235\,
  Kempen\, België
GEO:51.07632;4.79413
X-APPLE-STRUCTURED-LOCATION;VALUE=URI;X-ADDRESS=Kapelaniestraat 13\, Hulsho
 ut\, Antwerpen\, 2235\, Kempen\, België;X-APPLE-RADIUS=100;X-TITLE=Fanfar
 elokaal:geo:51.07632,4.79413
END:VEVENT
BEGIN:VTIMEZONE
TZID:Europe/Brussels
X-LIC-LOCATION:Europe/Brussels
BEGIN:DAYLIGHT
DTSTART:20220327T030000
TZOFFSETFROM:+0100
TZOFFSETTO:+0200
TZNAME:CEST
END:DAYLIGHT
END:VTIMEZONE
END:VCALENDAR