BEGIN:VCALENDAR
VERSION:2.0
PRODID:-//wp-events-plugin.com//7.2.3.1//EN
TZID:Europe/Brussels
X-WR-TIMEZONE:Europe/Brussels
BEGIN:VEVENT
UID:907@raakhulshout.be
DTSTART;TZID=Europe/Brussels:20230406T190000
DTEND;TZID=Europe/Brussels:20230406T230000
DTSTAMP:20230301T104148Z
URL:https://raakhulshout.be/events/paasfeest/
SUMMARY:Paasfeest
DESCRIPTION:Naar jaarlijkse gewoonte staan er gekookte eitjes met bokkes op
  het paasmenu met een chocolade eitje als toetje.\n\nVoor wie liever geen
  eitjes eet worden er boterhammen met kaas of hesp voorzien. We houden het
  de rest van avond ongedwongen en gezellig met kaartspellen\, vogelpikken 
 een pintje drinken en een praatje maken\n\nInschrijven is niet nodig\, de
  eitjes zijn gratis en de drank aan niet geindexeerde prijzen
LOCATION:parochiezaal\, Grote Baan 120\, Hulshout\, Antwerpen\, 2235\, kemp
 en\, België
GEO:51.0747671;4.790595199999984
X-APPLE-STRUCTURED-LOCATION;VALUE=URI;X-ADDRESS=Grote Baan 120\, Hulshout\,
  Antwerpen\, 2235\, kempen\, België;X-APPLE-RADIUS=100;X-TITLE=parochieza
 al:geo:51.0747671,4.790595199999984
END:VEVENT
BEGIN:VTIMEZONE
TZID:Europe/Brussels
X-LIC-LOCATION:Europe/Brussels
BEGIN:DAYLIGHT
DTSTART:20230326T030000
TZOFFSETFROM:+0100
TZOFFSETTO:+0200
TZNAME:CEST
END:DAYLIGHT
END:VTIMEZONE
END:VCALENDAR