BEGIN:VCALENDAR
VERSION:2.0
PRODID:-//wp-events-plugin.com//7.2.3.1//EN
TZID:Europe/Brussels
X-WR-TIMEZONE:Europe/Brussels
BEGIN:VEVENT
UID:1040@raakhulshout.be
DTSTART;TZID=Europe/Brussels:20260305T200000
DTEND;TZID=Europe/Brussels:20260305T230000
DTSTAMP:20250927T165343Z
URL:https://raakhulshout.be/events/kaartavonden-41/
SUMMARY:Kaartavonden
DESCRIPTION:Kaartavonden\n\nDe kaartavonden staan open voor alle inwoners v
 an Hulshout en Bruggeneinde en alle leden van KWB en gaan door van 20.00 t
 ot 23.00 uur. Inschrijving :3 € voor leden – 5 € voor niet leden.De 
 prijzentafel bestaat uit hoofdzakelijk voedingswaren. De eerste drie krijg
 en bovenop een prijs van de prijzentafel nog een som geld zijnde 7€ - 5 
 € en 3 €.\n\nDe kaartavonden staan open voor alle inwoners van Hulshou
 t en Bruggeneinde en alle leden van KWB.\n\nInschrijving : 3 € voor lede
 n – 5 € voor niet leden.\n\nDe prijzentafel bestaat uit hoofdzakelijk 
 voedingswaren.\n\nDe eerste drie krijgen bovenop een prijs van de prijzent
 afel nog een som geld zijnde 7€ - 5 € en 3 €.\n\nHet aantal prijzen 
 wordt bepaald door de aanwezige kaartspelers. Hier wordt de helft plus 1 g
 ehanteerd.
LOCATION:parochiezaal\, Grote Baan 120\, Hulshout\, Antwerpen\, 2235\, kemp
 en\, België
GEO:51.0747671;4.790595199999984
X-APPLE-STRUCTURED-LOCATION;VALUE=URI;X-ADDRESS=Grote Baan 120\, Hulshout\,
  Antwerpen\, 2235\, kempen\, België;X-APPLE-RADIUS=100;X-TITLE=parochieza
 al:geo:51.0747671,4.790595199999984
END:VEVENT
BEGIN:VTIMEZONE
TZID:Europe/Brussels
X-LIC-LOCATION:Europe/Brussels
BEGIN:STANDARD
DTSTART:20251026T020000
TZOFFSETFROM:+0200
TZOFFSETTO:+0100
TZNAME:CET
END:STANDARD
END:VTIMEZONE
END:VCALENDAR