BEGIN:VCALENDAR
VERSION:2.0
PRODID:-//wp-events-plugin.com//7.2.3.1//EN
TZID:Europe/Brussels
X-WR-TIMEZONE:Europe/Brussels
BEGIN:VEVENT
UID:441@raakhulshout.be
DTSTART;TZID=Europe/Brussels:20190113T080000
DTEND;TZID=Europe/Brussels:20190113T150000
DTSTAMP:20181125T135928Z
URL:https://raakhulshout.be/events/herebossenwandeling-2/
SUMMARY:Herebossenwandeling
DESCRIPTION:KWB Hulshout &amp\; Falos\n\norganiseren de Herebossenwandeling
 \n\neen wandeling langs rustige wegen door de prachtige natuur van Hulshou
 t en de Netevallei\n\n\n\nzondag 13 januari 2019\n\nVertrek en aankomst :\
 nparochiezaal St Matheus\, Grote Baan 120\, 2235 Hulshout\n\nAfstanden : 
  ongeveer 4 km\, 7 km\, 11 km en 15 km\n\nVertrekuur : vrij vertrek tussen
  8u00 en 15u00\n\nInschrijving :  verzekering inbegrepen\n\n1\,20 euro vo
 or leden\n1\,50 voor niet-leden\n\nTe verkrijgen : soep\, pannenkoeken\,\n
 warme &amp\; koude dranken\n\nInlichtingen : Walter Thijs : 015/22.35.42\n
 Papen Jef 0486/24 22 18
LOCATION:parochiezaal\, Grote Baan 120\, Hulshout\, Antwerpen\, 2235\, kemp
 en\, België
GEO:51.0747671;4.790595199999984
X-APPLE-STRUCTURED-LOCATION;VALUE=URI;X-ADDRESS=Grote Baan 120\, Hulshout\,
  Antwerpen\, 2235\, kempen\, België;X-APPLE-RADIUS=100;X-TITLE=parochieza
 al:geo:51.0747671,4.790595199999984
END:VEVENT
BEGIN:VTIMEZONE
TZID:Europe/Brussels
X-LIC-LOCATION:Europe/Brussels
BEGIN:STANDARD
DTSTART:20181028T020000
TZOFFSETFROM:+0200
TZOFFSETTO:+0100
TZNAME:CET
END:STANDARD
END:VTIMEZONE
END:VCALENDAR